BEGIN:VCALENDAR
VERSION:2.0
PRODID:
BEGIN:VEVENT
UID:150647mb
DTSTAMP:20260424T213000Z
DTSTART:20260528T190000Z
DTEND:20260528T223900Z
LOCATION: Online
SUMMARY: All About Fraud - Examples\, Prevention and Auditing
DESCRIPTION: Fraud is constantly in the news. Whether it's employee retention credit mills\, FTX\, or the City of Dixon\, it appears that fraud is everywhere. We'll start this session with a review of the common fraud schemes as identified in the 2024 Report to the Nations. We'll also review the commonalities of fraudsters. We'll then look at methods of prevention. We'll close with a look at the auditor&#39\;s responsibility for the consideration of fraud in AU-C 240\n 
CLASS:PUBLIC
END:VEVENT
END:VCALENDAR
