BEGIN:VCALENDAR
VERSION:2.0
PRODID:
BEGIN:VEVENT
UID:150620mb
DTSTAMP:20260424T085243Z
DTSTART:20260427T130000Z
DTEND:20260427T144700Z
LOCATION: Online
SUMMARY: What's Changing in Risk Assessment
DESCRIPTION: SAS 145\, Understanding the Entity and Its Environment and Assessing the Risks of Material Misstatement\, was issued in October 2021. The audit standard amends AU-C 315\, including many changes to address common audit deficiencies. This course will provide an overview of SAS 145 and its changes to AU-C 315. Attendees will have an opportunity to evaluate the impact on audit methodology and documentation\n 
CLASS:PUBLIC
END:VEVENT
END:VCALENDAR
