BEGIN:VCALENDAR
VERSION:2.0
PRODID:
BEGIN:VEVENT
UID:149417mb
DTSTAMP:20260425T004728Z
DTSTART:20260429T180000Z
DTEND:20260429T195000Z
LOCATION: Online
SUMMARY: Ethical Intelligence for Artificial Intelligence
DESCRIPTION: Organizations and individuals enticed by the siren song of artificial intelligence cannot ignore ethical considerations. Professionals must consider accuracy of information\, data privacy\, independence\, source citations\, organizational policies\, security\, data retention\, and other ethical matters. This course discusses ethical issues associated with the utilization of AI in a professional setting and provides suggested best practices\n 
CLASS:PUBLIC
END:VEVENT
END:VCALENDAR
