BEGIN:VCALENDAR
VERSION:2.0
PRODID:
BEGIN:VEVENT
UID:141349mb
DTSTAMP:20260425T004850Z
DTSTART:20260429T180000Z
DTEND:20260429T200000Z
LOCATION: Online
SUMMARY: Take Command of your Time
DESCRIPTION: Manage distractions\, decrease stress and improve productivity. This training is designed to help business professionals improve their productivity and work performance by learning how to prioritize time\, decrease distractions and lower stress.

This event may be a rebroadcast of a live event and the instructor will be available to answer your questions during the event.
CLASS:PUBLIC
END:VEVENT
END:VCALENDAR
